BEGIN:VCALENDAR
VERSION:2.0
PRODID:-//Freibad Etzelwang - ECPv6.15.20//NONSGML v1.0//EN
CALSCALE:GREGORIAN
METHOD:PUBLISH
X-ORIGINAL-URL:https://foerderverein-freibadetzelwang.de
X-WR-CALDESC:Veranstaltungen für Freibad Etzelwang
REFRESH-INTERVAL;VALUE=DURATION:PT1H
X-Robots-Tag:noindex
X-PUBLISHED-TTL:PT1H
BEGIN:VTIMEZONE
TZID:Europe/Berlin
BEGIN:DAYLIGHT
TZOFFSETFROM:+0100
TZOFFSETTO:+0200
TZNAME:CEST
DTSTART:20200329T010000
END:DAYLIGHT
BEGIN:STANDARD
TZOFFSETFROM:+0200
TZOFFSETTO:+0100
TZNAME:CET
DTSTART:20201025T010000
END:STANDARD
BEGIN:DAYLIGHT
TZOFFSETFROM:+0100
TZOFFSETTO:+0200
TZNAME:CEST
DTSTART:20210328T010000
END:DAYLIGHT
BEGIN:STANDARD
TZOFFSETFROM:+0200
TZOFFSETTO:+0100
TZNAME:CET
DTSTART:20211031T010000
END:STANDARD
BEGIN:DAYLIGHT
TZOFFSETFROM:+0100
TZOFFSETTO:+0200
TZNAME:CEST
DTSTART:20220327T010000
END:DAYLIGHT
BEGIN:STANDARD
TZOFFSETFROM:+0200
TZOFFSETTO:+0100
TZNAME:CET
DTSTART:20221030T010000
END:STANDARD
END:VTIMEZONE
BEGIN:VEVENT
DTSTART;VALUE=DATE:20210612
DTEND;VALUE=DATE:20210613
DTSTAMP:20260423T175653
CREATED:20210525T143018Z
LAST-MODIFIED:20210525T144843Z
UID:2853-1623456000-1623542399@foerderverein-freibadetzelwang.de
SUMMARY:Bad öffnet wieder
DESCRIPTION:Es kann wieder los gehen. Abhängig von der Witterung planen wir derzeit einen Öffnung des Freibades ab 12.06.2021\, soweit der Inzidenzwert für mehr als 5 Tage unter 50 liegt. \n\nZum Schutz unserer Gäste sind allerdings auch dieses Jahr wieder Hygiene- und Schutzmaßnahmen erforderlich. Diese sind insbesondere:\n\n\n\n– Eine Terminbuchung ist grundsätzlich erforderlich. Diese ist jedoch im Rahmen freier Kapazitäten auch in Form einer „last-minute-Buchung“ vor Ort möglich.\n\n\n\n– Wie letztes Jahr wird es eine Höchstbelegung geben\, die einen ausreichenden Abstand auf der Liegefläche und im Wasser ermöglicht. Dies war letztes Jahr problemlos möglich.\n\n\n\n– Es besteht für Gäste ab dem 15. Geburtstag FFP2-Maskenpflicht\, Kinder von 6 – 14 Jahren müssen eine Mund-Nasen-Bedeckung tragen.\n\n\n\n– Es erfolgt eine Kontaktdatenerfassung.\n\n\n\n– Solange der Inzidenzwert stabil unter 50 liegt\, ist kein Test erforderlich. Erst wenn der Wert im Laufe des Sommers die 50er-Marke überschritten wird\, müssen Gäste\, die nicht geimpft oder genesen sind\, einen höchsten 24 Stunden alten Testnachweis vorlegen. Anerkannt werden dann nur Tests von lokalen Testzentren\, den Apotheken und den vom Öffentlichen Gesundheitsdienst beauftragten Teststellen\, aber auch im Rahmen einer betrieblichen Testung im Sinne des Arbeitsschutzes. Eine Testung vor Ort wird nicht angeboten.\n\n\n\n– Es findet kein Verleih von Ausrüstung (Schwimmhilfen\, Schwimmbrillen) statt.\n\n\n\nNähere Bestimmungen werden vor Ort bekannt gegeben.\n\n\nWir sind überzeugt\, wie auch im letzten Jahr die Auflagen wieder gemeinsam erfüllen zu können\, so dass wir unseren Gästen unter den gegebenen Umständen ein Badevergnügen ermöglichen können.\n\n\n\nBeitrag auf Facebook: Gemeinde Etzelwang – Beiträge | Facebook
URL:https://foerderverein-freibadetzelwang.de/event/bad-oeffnet-wieder/
LOCATION:Freibad\, Nürnberger Straße 1\, Etzelwang\, Bayern\, 92268
CATEGORIES:Allgemein
END:VEVENT
END:VCALENDAR